BEGIN:VCALENDAR
VERSION:2.0
PRODID:-//ChamberMaster//Event Calendar 2.0//EN
METHOD:PUBLISH
X-PUBLISHED-TTL:P1H
REFRESH-INTERVAL:P1H
CALSCALE:GREGORIAN
BEGIN:VTIMEZONE
TZID:America/Denver
BEGIN:DAYLIGHT
RRULE:FREQ=YEARLY;BYMONTH=3;BYDAY=2SU
DTSTART:20070101T000000
TZOFFSETFROM:-0700
TZOFFSETTO:-0600
TZNAME:Mountain Daylight Time
END:DAYLIGHT
BEGIN:STANDARD
RRULE:FREQ=YEARLY;BYMONTH=11;BYDAY=1SU
DTSTART:20070101T000000
TZOFFSETFROM:-0600
TZOFFSETTO:-0700
TZNAME:Mountain Standard Time
END:STANDARD
END:VTIMEZONE
BEGIN:VEVENT
DTSTART;TZID=America/Denver:20260514T160000
DTEND;TZID=America/Denver:20260514T180000
X-MICROSOFT-CDO-ALLDAYEVENT:FALSE
SUMMARY:May Business After Hours
DESCRIPTION:Join us for our May Business After Hours   hosted by Trailhead Chiropractic! Learn more about this amazing local business\, at their new location! Join us from 4- 6p.m. for casual networking\, complimentary drinks\, light bites\, and great conversation in a relaxed setting and connect with fellow members of the Glenwood Springs Chamber. Trailhead Chiropractic\n100 Midland Ave #280\n4 - 6 p.m. \nwww.trailheadchiro.com  Business After Hours is free for all members and their guests. Remember   all employees under your business membership are considered members\, so invite your team!
X-ALT-DESC;FMTTYPE=text/html:<!DOCTYPE html><html><head><title></title></head><body aria-disabled="false"><p>Join us for our May Business After Hours &mdash\; hosted by Trailhead Chiropractic! Learn more about this amazing local business\, at their new location! Join us from 4- 6p.m. for casual networking\, complimentary drinks\, light bites\, and great conversation in a relaxed setting and connect with fellow members of the Glenwood Springs Chamber.&nbsp\;</p><p>Trailhead Chiropractic<br>100 Midland Ave #280<br>4 - 6 p.m.&nbsp\;<br>www.trailheadchiro.com&nbsp\;</p><p>&nbsp\;Business After Hours is free for all members and their guests. Remember &mdash\; all employees under your business membership are considered members\, so invite your team!</p></body></html>
LOCATION:100 Midland Ave #280 Glenwood Springs CO 81601
UID:e.2140.1441252
SEQUENCE:3
DTSTAMP:20260419T174855Z
URL:https://business.glenwoodchamber.com/chamber-event-calendar/Details/may-business-after-hours-1706471?sourceTypeId=Hub
END:VEVENT
END:VCALENDAR
